BEGIN:VCALENDAR
VERSION:2.0
PRODID:-//Teatri Possibili Milano - ECPv6.15.17.1//NONSGML v1.0//EN
CALSCALE:GREGORIAN
METHOD:PUBLISH
X-ORIGINAL-URL:https://www.teatripossibili.it
X-WR-CALDESC:Eventi per Teatri Possibili Milano
REFRESH-INTERVAL;VALUE=DURATION:PT1H
X-Robots-Tag:noindex
X-PUBLISHED-TTL:PT1H
BEGIN:VTIMEZONE
TZID:Europe/Rome
BEGIN:DAYLIGHT
TZOFFSETFROM:+0100
TZOFFSETTO:+0200
TZNAME:CEST
DTSTART:20230326T010000
END:DAYLIGHT
BEGIN:STANDARD
TZOFFSETFROM:+0200
TZOFFSETTO:+0100
TZNAME:CET
DTSTART:20231029T010000
END:STANDARD
BEGIN:DAYLIGHT
TZOFFSETFROM:+0100
TZOFFSETTO:+0200
TZNAME:CEST
DTSTART:20240331T010000
END:DAYLIGHT
BEGIN:STANDARD
TZOFFSETFROM:+0200
TZOFFSETTO:+0100
TZNAME:CET
DTSTART:20241027T010000
END:STANDARD
BEGIN:DAYLIGHT
TZOFFSETFROM:+0100
TZOFFSETTO:+0200
TZNAME:CEST
DTSTART:20250330T010000
END:DAYLIGHT
BEGIN:STANDARD
TZOFFSETFROM:+0200
TZOFFSETTO:+0100
TZNAME:CET
DTSTART:20251026T010000
END:STANDARD
END:VTIMEZONE
BEGIN:VEVENT
DTSTART;TZID=Europe/Rome:20240704T193000
DTEND;TZID=Europe/Rome:20240704T233000
DTSTAMP:20260424T100843
CREATED:20240606T095354Z
LAST-MODIFIED:20240606T124954Z
UID:9192-1720121400-1720135800@www.teatripossibili.it
SUMMARY:TP PARTY!
DESCRIPTION:Festeggiamo insieme una stagione di successi!\n\nCari amici…È stata una stagione lunga\, piena di scoperte e di successi…Vogliamo festeggiarla insieme a voi e ai vostri amici!\nSegnatevi la data: GIOVEDÌ 4 LUGLIO dalle 19:30 TPParty!  La festa si terrà al Castelli Gourmet\, in via Cerano 15 (dietro l’angolo\, non potete sbagliare!). Sarà una serata indimenticabile con DJ set\, tanta musica e la possibilità di ballare fino a tardi. \nÈ il nostro modo di ringraziarvi per un anno fantastico\, pieno di impegno\, di scoperte e di grandi risultati! \nATTENZIONE: La festa è aperta a tutti! Quindi invitate anche amici\, fidanzati e fidanzate\, parenti e familiari. Sarà un momento per stare un po’ insieme\, per divertirci\, conoscere allievi e insegnanti degli altri corsi e festeggiare una stagione davvero ricca di eventi e di successi. \nCi sarete? Non mancate! \n\nData: Giovedì 4 luglio\nOrario: Dalle 19:30 in avanti\nLuogo: Castelli Gourmet\, via Cerano 15\n\nTP Party\, siete pronti? Spargete la voce!
URL:https://www.teatripossibili.it/evento/tp-party/
LOCATION:Castelli Gourmet\, Via Cerano 15\, Milano
ATTACH;FMTTYPE=image/jpeg:https://www.teatripossibili.it/wp-content/uploads/2024/06/pexels-cottonbro-3171837-scaled.jpg
END:VEVENT
BEGIN:VEVENT
DTSTART;TZID=Europe/Rome:20240705T190000
DTEND;TZID=Europe/Rome:20240705T200000
DTSTAMP:20260424T100843
CREATED:20240613T141817Z
LAST-MODIFIED:20240624T133845Z
UID:9286-1720206000-1720209600@www.teatripossibili.it
SUMMARY:ASS. - Lezione gratuita di Musical
DESCRIPTION:Siete pronti a scatenarvi sulle note di “La Febbre del Sabato Sera”? Unitevi a noi per una lezione di musical gratuita dedicata esclusivamente ai nostri soci\, con l’eccezionale insegnante Roberta De Vincentis. \nCon la sua energia e passione\, Roberta vi guiderà nel mondo scintillante di uno dei film musicali più iconici di tutti i tempi. Preparati a ballare e divertirti\, che tu sia un principiante o un esperto\, non perdere questa occasione unica di vivere l’emozione del musical insieme a noi! \nScrivici per partecipare:\n3288580954 | associazione@teatripossibili.it | teatripossibili1@gmail.com
URL:https://www.teatripossibili.it/evento/ass-lezione-gratuita-di-musical/
END:VEVENT
BEGIN:VEVENT
DTSTART;TZID=Europe/Rome:20240710T100000
DTEND;TZID=Europe/Rome:20240710T170000
DTSTAMP:20260424T100843
CREATED:20240603T150319Z
LAST-MODIFIED:20240606T102447Z
UID:9105-1720605600-1720630800@www.teatripossibili.it
SUMMARY:Provini Accademia
DESCRIPTION:L’ammissione all’Accademia avviene tramite selezione. Le prossime selezioni si svolgeranno: \n\nMercoledì 10 luglio 2024 dalle ore 10:00 \n\n\nI candidati sono tenuti a compilare il seguente modulo e inviarlo all’indirizzo info@teatripossibili.it \n\n\nModulo candidatura Accademia Teatri Possibili \nAi candidati verrà richiesto: \n\n\n\nUn monologo tratto da opera teatrale pubblicata di durata non superiore ai 4 minuti (i candidati dovranno aver letto l’intera opera e conoscere la dinamica del personaggio)\n\n\n\n\nLa lettura di un brano in prosa\n\n\n\n\nLa realizzazione di una breve improvvisazione su tema proposto estemporaneo\n\n\n\nL’ammissione all’Accademia sarà comunicata entro una settimana dal provino.
URL:https://www.teatripossibili.it/evento/provini-accademia/
ATTACH;FMTTYPE=image/jpeg:https://www.teatripossibili.it/wp-content/uploads/2023/11/12.jpeg
END:VEVENT
BEGIN:VEVENT
DTSTART;TZID=Europe/Rome:20240712T190000
DTEND;TZID=Europe/Rome:20240712T200000
DTSTAMP:20260424T100843
CREATED:20240613T144939Z
LAST-MODIFIED:20240709T071743Z
UID:9291-1720810800-1720814400@www.teatripossibili.it
SUMMARY:ASS. - LEZIONE DI YOGA GRATUITA A PARCO SOLARI
DESCRIPTION:Prepara il tuo tappetino e indossa abiti comodi: il Parco Solari ti aspetta per una straordinaria lezione di yoga gratuita\, condotta dalla rinomata insegnante Simona Romano. Questo evento è un’occasione imperdibile per i soci e promette un’esperienza unica di rilassamento e apprendimento delle principali tecniche di questa antica disciplina. \nPer info e prenotazioni: associazione@teatripossibili.it – 328.858.0954
URL:https://www.teatripossibili.it/evento/ass-lezione-di-yoga-gratuita-a-parco-solari/
ATTACH;FMTTYPE=image/jpeg:https://www.teatripossibili.it/wp-content/uploads/2024/06/pexels-rui-dias-469842-1472887-scaled.jpg
END:VEVENT
BEGIN:VEVENT
DTSTART;TZID=Europe/Rome:20240719T190000
DTEND;TZID=Europe/Rome:20240719T200000
DTSTAMP:20260424T100843
CREATED:20240704T150934Z
LAST-MODIFIED:20260311T081124Z
UID:9458-1721415600-1721419200@www.teatripossibili.it
SUMMARY:ASS. LEZIONE GRATUITA DI LETTURA INTERPRETATA (su Zoom)
DESCRIPTION:Come modulare la voce? Come trovare toni caldi e seducenti\, o incisivi e forti per leggere e intrattenere al meglio? È un regalo per sé stessi e per chi ascolta. Una tecnica di recitazione pensata per suscitare stupore e meraviglia\, con un linguaggio evocativo e simbolico. Le storie ben raccontate ci riportano alle meraviglie del passato\, ci mostrano la poesia del presente e ci fanno sognare le avventure del futuro.\nTi aspettiamo per approfondire questa tecnica in una lezione speciale gratuita per i soci\, che sarà un’occasione unica per ascoltare e ascoltarsi\, raccontare e raccontarsi. La lezione si svolgerà sulla piattaforma Zoom. \nPer info e prenotazioni: associazione@teatripossibili.it – 328.858.0954
URL:https://www.teatripossibili.it/evento/ass-lezione-gratuita-di-lettura-interpretata-su-zoom/
ATTACH;FMTTYPE=image/jpeg:https://www.teatripossibili.it/wp-content/uploads/2024/02/lettura-interp-300x300-1-e1708610019974.jpeg
END:VEVENT
END:VCALENDAR