BEGIN:VCALENDAR
VERSION:2.0
PRODID:-//Teatri Possibili Milano - ECPv6.15.17.1//NONSGML v1.0//EN
CALSCALE:GREGORIAN
METHOD:PUBLISH
X-WR-CALNAME:Teatri Possibili Milano
X-ORIGINAL-URL:https://www.teatripossibili.it
X-WR-CALDESC:Eventi per Teatri Possibili Milano
REFRESH-INTERVAL;VALUE=DURATION:PT1H
X-Robots-Tag:noindex
X-PUBLISHED-TTL:PT1H
BEGIN:VTIMEZONE
TZID:Europe/Rome
BEGIN:DAYLIGHT
TZOFFSETFROM:+0100
TZOFFSETTO:+0200
TZNAME:CEST
DTSTART:20230326T010000
END:DAYLIGHT
BEGIN:STANDARD
TZOFFSETFROM:+0200
TZOFFSETTO:+0100
TZNAME:CET
DTSTART:20231029T010000
END:STANDARD
BEGIN:DAYLIGHT
TZOFFSETFROM:+0100
TZOFFSETTO:+0200
TZNAME:CEST
DTSTART:20240331T010000
END:DAYLIGHT
BEGIN:STANDARD
TZOFFSETFROM:+0200
TZOFFSETTO:+0100
TZNAME:CET
DTSTART:20241027T010000
END:STANDARD
BEGIN:DAYLIGHT
TZOFFSETFROM:+0100
TZOFFSETTO:+0200
TZNAME:CEST
DTSTART:20250330T010000
END:DAYLIGHT
BEGIN:STANDARD
TZOFFSETFROM:+0200
TZOFFSETTO:+0100
TZNAME:CET
DTSTART:20251026T010000
END:STANDARD
END:VTIMEZONE
BEGIN:VEVENT
DTSTART;TZID=Europe/Rome:20241002T080000
DTEND;TZID=Europe/Rome:20241002T170000
DTSTAMP:20260423T193426
CREATED:20241002T101225Z
LAST-MODIFIED:20241002T140817Z
UID:10362-1727856000-1727888400@www.teatripossibili.it
SUMMARY:Venerdì 11 Ottobre ore 19:30 - Assemblea soci Teatri Possibili
DESCRIPTION:Un momento di confronto importante per fare il punto sull’andamento dell’associazione\, in cui verranno condivise idee\, proposte e progetti. \nUn’occasione per prendere decisioni sul nostro futuro in cui la vostra presenza è fondamentale e di grande valore.
URL:https://www.teatripossibili.it/evento/andamento-associazione/
ATTACH;FMTTYPE=image/jpeg:https://www.teatripossibili.it/wp-content/uploads/2024/02/pexels-fauxels-3184418-scaled.jpg
END:VEVENT
BEGIN:VEVENT
DTSTART;TZID=Europe/Rome:20241006T100000
DTEND;TZID=Europe/Rome:20241006T180000
DTSTAMP:20260423T193426
CREATED:20240919T091333Z
LAST-MODIFIED:20250716T075144Z
UID:10238-1728208800-1728237600@www.teatripossibili.it
SUMMARY:ASS. Fiera dei Fiori sul Naviglio Grande
DESCRIPTION:Il 6 ottobre\, Teatri Possibili parteciperà per il terzo anno consecutivo alla suggestiva Fiera dei Fiori organizzata dall’Associazione del Naviglio Grande\, con un meraviglioso stand tutto dedicato alla natura e alla creatività. \nVenite a trovarci! Saremo lì tutto il giorno circondati da splendide composizioni floreali e profumi inebrianti\, e sarete immersi in un’atmosfera magica\, perfetta per scoprire tutte le informazioni sui nostri corsi e attività gratuite riservate ai soci. \nIn più\, abbiamo preparato per voi delle sorprese speciali che fioriranno solo durante la fiera. 🌸 Non mancate!
URL:https://www.teatripossibili.it/evento/fiera-dei-fiori/
LOCATION:Teatri Possibili\, via voghera 9\, Milano\, Milano\, 20144\, Italy
ATTACH;FMTTYPE=image/jpeg:https://www.teatripossibili.it/wp-content/uploads/2024/09/milan-4757371_1280.jpg
END:VEVENT
BEGIN:VEVENT
DTSTART;TZID=Europe/Rome:20241011T203000
DTEND;TZID=Europe/Rome:20241011T213000
DTSTAMP:20260423T193426
CREATED:20240919T085118Z
LAST-MODIFIED:20241009T080534Z
UID:10233-1728678600-1728682200@www.teatripossibili.it
SUMMARY:ASS. - Lezione di Teatro con Cecilia Broggini
DESCRIPTION:Un momento ludico e profondo\, caratterizzato da esercizi e giochi con cui Cecilia vi condurrà nel fantastico mondo della recitazione teatrale\, stimolando la vostra creatività e aiutandovi a prendere consapevolezza con le potenzialità del vostro corpo\, della vostra voce e della vostra espressività in relazione con voi stessi\, con gli altri e con lo spazio che vi circonda.
URL:https://www.teatripossibili.it/evento/recitazione-teatrale/
ATTACH;FMTTYPE=image/jpeg:https://www.teatripossibili.it/wp-content/uploads/2024/07/Q7B9863-scaled.jpg
END:VEVENT
BEGIN:VEVENT
DTSTART;TZID=Europe/Rome:20241017T203000
DTEND;TZID=Europe/Rome:20241017T220000
DTSTAMP:20260423T193426
CREATED:20241003T072542Z
LAST-MODIFIED:20250716T075107Z
UID:10374-1729197000-1729202400@www.teatripossibili.it
SUMMARY:Amleto - Compagnia Corrado d'Elia
DESCRIPTION:Arriva a Milano\, Amleto\, di William Shakespeare\, con la regia di Corrado d’Elia\, in scena al Teatro Leonardo dal 17 al 27 ottobre. Dopo i successi di Otello\, Romeo e Giulietta e Macbeth\, la Compagnia Corrado d’Elia continua il viaggio nel mondo shakespeariano con uno dei testi più iconici e amati di sempre. \nACQUISTA QUI IL TUO BIGLIETTO \nPer informazioni sull’acquisto e prenotazione dei biglietti: tel. 02.86.45.45.45 – biglietteria@mtmteatro.it\nDate: Dal 17 al 27 ottobre 2024\nSede: Teatro Leonardo di Milano (via Ampère 1\, Milano)\nOrari: dal martedì al sabato ore 20:30; domenica ore 16:30\ndurata 90 minuti
URL:https://www.teatripossibili.it/evento/debutto-amleto-compagnia-corrado-delia/
LOCATION:Teatro Leonardo\, via Ampère 1\, Milano
ATTACH;FMTTYPE=image/jpeg:https://www.teatripossibili.it/wp-content/uploads/2024/10/aml_103-d0c95a21.jpeg
END:VEVENT
BEGIN:VEVENT
DTSTART;TZID=Europe/Rome:20241018T193000
DTEND;TZID=Europe/Rome:20241018T203000
DTSTAMP:20260423T193426
CREATED:20241003T075656Z
LAST-MODIFIED:20241009T080646Z
UID:10380-1729279800-1729283400@www.teatripossibili.it
SUMMARY:Aperitivo con Amleto
DESCRIPTION:Venerdì 18 Ottobre\, alle ore 19:30\, vi aspettiamo al Green Bar di fronte al Teatro Leonardo per un aperitivo. \nUn momento per stare insieme prima di ritrovarci tutti\, alle 20:30 a teatro per vedere Amleto della compagnia Corrado d’Elia\, in scena da giovedì 17 a domenica 27 ottobre. \nPer i soci i biglietti al prezzo speciale di 17 euro. \nPer usufruire della riduzione occorre prenotare il proprio biglietto scrivendo ad associazione@teatripossibili.it\, indicando nome\, cognome del socio e il giorno in cui si vuole assistere allo spettacolo.
URL:https://www.teatripossibili.it/evento/aperitivo-con-amleto/
ATTACH;FMTTYPE=image/jpeg:https://www.teatripossibili.it/wp-content/uploads/2024/10/ape.jpg
END:VEVENT
BEGIN:VEVENT
DTSTART;TZID=Europe/Rome:20241019T100000
DTEND;TZID=Europe/Rome:20241020T190000
DTSTAMP:20260423T193426
CREATED:20240705T090145Z
LAST-MODIFIED:20250716T075230Z
UID:9479-1729332000-1729450800@www.teatripossibili.it
SUMMARY:Seminario con Giorgio Bongiovanni - La commedia dell'arte
DESCRIPTION:Clicca il link in blu (“sito web”) qui sotto per tutti i dettagli! \nFREQUENZA\n– 19 e 20 ottobre 2024 ore 10-19 con Giorgio Bongiovanni
URL:https://www.teatripossibili.it/evento/seminario-con-giorgio-bongiovanni-la-commedia-dellarte/
LOCATION:Teatri Possibili\, via voghera 9\, Milano\, Milano\, 20144\, Italy
END:VEVENT
BEGIN:VEVENT
DTSTART;TZID=Europe/Rome:20241026T160000
DTEND;TZID=Europe/Rome:20241026T170000
DTSTAMP:20260423T193426
CREATED:20241003T083244Z
LAST-MODIFIED:20241003T083244Z
UID:10394-1729958400-1729962000@www.teatripossibili.it
SUMMARY:Incontri soci per bambini e junior
DESCRIPTION:Balla canta e divertiti sul Musical più bello e spaventoso di sempre : “Nightmare Before Christmas“. \nVi aspettiamo alle 16:00\, tutti mascherati\, per poi concludere con una sorpresa golosa!
URL:https://www.teatripossibili.it/evento/incontri-soci-per-bambini-e-junior/
ATTACH;FMTTYPE=image/png:https://www.teatripossibili.it/wp-content/uploads/2024/09/image-23.png
END:VEVENT
BEGIN:VEVENT
DTSTART;TZID=Europe/Rome:20241027T103000
DTEND;TZID=Europe/Rome:20241027T123000
DTSTAMP:20260423T193426
CREATED:20241014T130348Z
LAST-MODIFIED:20241014T131003Z
UID:10623-1730025000-1730032200@www.teatripossibili.it
SUMMARY:Visita al Museo di Arte Antica - Castello Sforzesco
DESCRIPTION:Una mattinata insieme per conoscere le forme e le espressioni della scultura lombarda dai primi secoli del Cristianesimo al Rinascimento\, allenando l’occhio all’evoluzione e alla ricerca espressiva degli artisti nel tempo. Lungo le ali della Corte Ducale e ai piani superiori della Rocchetta\, visiteremo il Museo del castello denominato di “Arte Antica”\, un itinerario variato e ricco di sorprese che stimoleranno la nostra curiosità. Scopriremo\, allora\, come il volto del “Bello” va trovato\, recuperato e conosciuto dentro alle manifestazioni decorative e le scelte stilistiche che gli scultori nel tempo lasciano stampate su capitelli\, lastre\, sulle arche funerarie o sulle pietre delle porte di Mediolanum. Ci fermeremo\, infine\, a contemplare l’ultimo capolavoro di Michelangelo\, la Pietà Rondanini\, l’opera rimasta (volutamente?) incompiuta alla morte dell’artista\, avvenuta nel 1564 a Roma; frutto di ripensamenti\, ricerca travagliata e infine epifania del sinonimo di Maternità. Ecco i dettagli: \nRitrovo presso la Biglietteria dei Musei del Castello (all’interno del Castello) alle 10:15 \nI COSTI DEL BIGLIETTO DI INGRESSO: \n\nRIDOTTO 6 EURO per Over 65 e tra i 18 e i 25 anni compresi\nINTERO 8 EURO\nGRATIS Fino ai 18 anni (esclusi)
URL:https://www.teatripossibili.it/evento/scultura-lombarda/
ATTACH;FMTTYPE=image/jpeg:https://www.teatripossibili.it/wp-content/uploads/2024/09/italy-5054932_1280.jpg
END:VEVENT
BEGIN:VEVENT
DTSTART;TZID=Europe/Rome:20241027T163000
DTEND;TZID=Europe/Rome:20241027T183000
DTSTAMP:20260423T193426
CREATED:20241016T141556Z
LAST-MODIFIED:20250716T075211Z
UID:10683-1730046600-1730053800@www.teatripossibili.it
SUMMARY:IMPRO DAY
DESCRIPTION:Impro Day: Scatena la tua creatività! \nHai mai desiderato reagire prontamente e dire la cosa giusta al momento giusto? Allora l’Impro Day Teatri Possibili è la tua occasione per metterti alla prova e scoprire il potere dell’improvvisazione! \nTi aspettiamo per una giornata carica di energia\, divertimento e creatività. L’improvvisazione non è solo una sfida teatrale\, è una palestra per la vita! Scoprirai come allenare la mente a reagire\, a creare qualcosa di unico\, ogni volta diverso\, proprio come nella vita reale. \nLe regole sono semplici\, ma potenti: accetta\, estendi e porta avanti. Se sei pronto ad abbracciare le sfide\, questo è il corso perfetto per te. Non ci saranno copioni\, solo il palco\, il pubblico e la tua fantasia! \nL’improvvisazione ti insegna a cogliere l’attimo\, a valorizzare il qui e ora\, senza lasciarti sfuggire nessuna opportunità. \nDurante l’open day\, avrai l’opportunità di assistere a una presentazione interattiva dei nostri corsi di improvvisazione\, dal livello base ai laboratori avanzati. Gli insegnanti e alcuni allievi ti mostreranno quanto può essere coinvolgente uno show nato spontaneamente sul palco. Inoltre\, potrai soddisfare ogni tua curiosità e scoprire il percorso che fa per te! \nNon mancare: Domenica 27 ottobre\, dalle 16:30 alle 18:30. \nPrenotati scrivendo a info@teatripossibili.it o al numero 028323182 \nPorta con te leggerezza\, risate e tanta fantasia.\nTi aspettiamo!
URL:https://www.teatripossibili.it/evento/impro-day/
LOCATION:Teatri Possibili\, via voghera 9\, Milano\, Milano\, 20144\, Italy
ATTACH;FMTTYPE=image/jpeg:https://www.teatripossibili.it/wp-content/uploads/2024/10/Q7B9866-1-scaled.jpg
END:VEVENT
END:VCALENDAR