BEGIN:VCALENDAR
VERSION:2.0
PRODID:-//Teatri Possibili Milano - ECPv6.15.17.1//NONSGML v1.0//EN
CALSCALE:GREGORIAN
METHOD:PUBLISH
X-WR-CALNAME:Teatri Possibili Milano
X-ORIGINAL-URL:https://www.teatripossibili.it
X-WR-CALDESC:Eventi per Teatri Possibili Milano
REFRESH-INTERVAL;VALUE=DURATION:PT1H
X-Robots-Tag:noindex
X-PUBLISHED-TTL:PT1H
BEGIN:VTIMEZONE
TZID:Europe/Rome
BEGIN:DAYLIGHT
TZOFFSETFROM:+0100
TZOFFSETTO:+0200
TZNAME:CEST
DTSTART:20240331T010000
END:DAYLIGHT
BEGIN:STANDARD
TZOFFSETFROM:+0200
TZOFFSETTO:+0100
TZNAME:CET
DTSTART:20241027T010000
END:STANDARD
BEGIN:DAYLIGHT
TZOFFSETFROM:+0100
TZOFFSETTO:+0200
TZNAME:CEST
DTSTART:20250330T010000
END:DAYLIGHT
BEGIN:STANDARD
TZOFFSETFROM:+0200
TZOFFSETTO:+0100
TZNAME:CET
DTSTART:20251026T010000
END:STANDARD
BEGIN:DAYLIGHT
TZOFFSETFROM:+0100
TZOFFSETTO:+0200
TZNAME:CEST
DTSTART:20260329T010000
END:DAYLIGHT
BEGIN:STANDARD
TZOFFSETFROM:+0200
TZOFFSETTO:+0100
TZNAME:CET
DTSTART:20261025T010000
END:STANDARD
END:VTIMEZONE
BEGIN:VEVENT
DTSTART;TZID=Europe/Rome:20250124T100000
DTEND;TZID=Europe/Rome:20250126T170000
DTSTAMP:20260423T180414
CREATED:20240705T091544Z
LAST-MODIFIED:20250716T075133Z
UID:9491-1737712800-1737910800@www.teatripossibili.it
SUMMARY:Seminario con Greta Zamparini - Laboratorio sulla tecnica Meisner
DESCRIPTION:Clicca il link in blu (“sito web”) qui sotto per tutti i dettagli! \nFREQUENZA\n– 24\, 25 e 26 gennaio 2025 ore 10-17 con Greta Zamparini
URL:https://www.teatripossibili.it/evento/seminario-con-greta-zamparini-laboratorio-sulla-tecnica-meisner/
LOCATION:Teatri Possibili\, via voghera 9\, Milano\, Milano\, 20144\, Italy
END:VEVENT
BEGIN:VEVENT
DTSTART;TZID=Europe/Rome:20250131T180000
DTEND;TZID=Europe/Rome:20250131T200000
DTSTAMP:20260423T180414
CREATED:20250121T164223Z
LAST-MODIFIED:20250121T170237Z
UID:11617-1738346400-1738353600@www.teatripossibili.it
SUMMARY:Prove aperte spettacolo Compagnia Corrado d'Elia "Else"
DESCRIPTION:Prove aperte dello spettacolo ELSE; in scena allo Spazio Tertulliano da martedì 4 a domenica 9 febbraio 2025\ncon il regista Davide Gasparro e gli attori Chiara Salvucci\, Valeria Ducato\, Andrea Bonati\n\n\nVenerdì 31 gennaio dalle ore 18.00 – aula A\, Teatri Possibili\n\n\nE’ necessaria la prenotazione.\nPer partecipare scrivere a: organizzazione@corradodelia.it
URL:https://www.teatripossibili.it/evento/prove-aperte-spettacolo-compagnia-corrado-delia-else/
ATTACH;FMTTYPE=image/jpeg:https://www.teatripossibili.it/wp-content/uploads/2025/01/ELSE-LOCANDINAweb-1-scaled.jpg
END:VEVENT
END:VCALENDAR