BEGIN:VCALENDAR
VERSION:2.0
PRODID:-//Teatri Possibili Milano - ECPv6.15.17.1//NONSGML v1.0//EN
CALSCALE:GREGORIAN
METHOD:PUBLISH
X-WR-CALNAME:Teatri Possibili Milano
X-ORIGINAL-URL:https://www.teatripossibili.it
X-WR-CALDESC:Eventi per Teatri Possibili Milano
REFRESH-INTERVAL;VALUE=DURATION:PT1H
X-Robots-Tag:noindex
X-PUBLISHED-TTL:PT1H
BEGIN:VTIMEZONE
TZID:Europe/Rome
BEGIN:DAYLIGHT
TZOFFSETFROM:+0100
TZOFFSETTO:+0200
TZNAME:CEST
DTSTART:20240331T010000
END:DAYLIGHT
BEGIN:STANDARD
TZOFFSETFROM:+0200
TZOFFSETTO:+0100
TZNAME:CET
DTSTART:20241027T010000
END:STANDARD
BEGIN:DAYLIGHT
TZOFFSETFROM:+0100
TZOFFSETTO:+0200
TZNAME:CEST
DTSTART:20250330T010000
END:DAYLIGHT
BEGIN:STANDARD
TZOFFSETFROM:+0200
TZOFFSETTO:+0100
TZNAME:CET
DTSTART:20251026T010000
END:STANDARD
BEGIN:DAYLIGHT
TZOFFSETFROM:+0100
TZOFFSETTO:+0200
TZNAME:CEST
DTSTART:20260329T010000
END:DAYLIGHT
BEGIN:STANDARD
TZOFFSETFROM:+0200
TZOFFSETTO:+0100
TZNAME:CET
DTSTART:20261025T010000
END:STANDARD
END:VTIMEZONE
BEGIN:VEVENT
DTSTART;TZID=Europe/Rome:20250202T170000
DTEND;TZID=Europe/Rome:20250202T183000
DTSTAMP:20260423T132957
CREATED:20250117T110319Z
LAST-MODIFIED:20250117T110448Z
UID:11596-1738515600-1738521000@www.teatripossibili.it
SUMMARY:Open day TeatroCounseling
DESCRIPTION:Vieni a Teatri Possibili per l’Open day domenica 2 febbraio 2025 ore 17 e scopri tutti i dettagli del corso di TeatroCounseling®!\nIngresso gratuito su prenotazione (sarà possibile partecipare all’open day anche da remoto). Per prenotare scrivi a info@teatripossibili.it o al numero 3284298709 \n\nQuando e dove: 2 febbraio 2025 ore 17:00 in via Voghera 9 Milano\nCoordinatrice progetto: Marisa Miritello\n\nPrenotati scrivendoci a: info@teatripossibili.it o 3284298709\nScopri tutti i dettagli del corso al link qui sotto in blu
URL:https://www.teatripossibili.it/evento/open-day-teatrocounseling-2/
END:VEVENT
BEGIN:VEVENT
DTSTART;TZID=Europe/Rome:20250216T203000
DTEND;TZID=Europe/Rome:20250216T223000
DTSTAMP:20260423T132957
CREATED:20241022T123830Z
LAST-MODIFIED:20250206T080844Z
UID:10773-1739737800-1739745000@www.teatripossibili.it
SUMMARY:Spettacolo corso Progetto Spettacolo - "La tragicomica storia del signor P."
DESCRIPTION:Prepariamoci a dar vita insieme a una delle commedie più divertenti della drammaturgia contemporanea! Achille Campanile\, uno dei più grandi umoristi del ventesimo secolo\, raggiunge il culmine della sua comicità in questo testo tratto dal suo omonimo romanzo. \nTema centrale: la morte\, un tabù della società moderna\, trattato con l’inconfondibile sarcasmo di Campanile. Attraverso personaggi eccentrici e situazioni paradossali\, Campanile ci offre la possibilità di ridere di ciò che è drammaticamente serio\, sdrammatizzando le nostre paure più profonde. \nTrama: Senza svelare troppo\, tutto ruota attorno alla morte improvvisa del povero Piero\, che vive con i suoceri e il cognato. Le sue ultime volontà\, decisamente insolite\, impongono di annunciare la sua morte solo dopo i funerali\, dando vita a una serie di equivoci esilaranti nel caotico salotto di casa Davenza. Qui\, un variegato cast di personaggi – dalla vedova inconsolabile all’amica appassionata di gialli – trasforma il solenne rito funebre in una commedia degli equivoci\, con gag irresistibili e un finale sorprendente. \nAchille Campanile: Nato a Roma nel 1899\, Campanile è stato uno scrittore\, drammaturgo\, sceneggiatore e giornalista di straordinario acume. La sua eredità letteraria\, ricca di ironia e di uno stile innovativo\, continua a influenzare la cultura contemporanea\, mettendo in luce le contraddizioni della società con amara leggerezza. \nConduce David Meden \nLink per acquistare i biglietti qui sotto:
URL:https://www.teatripossibili.it/evento/spettacolo-corso-progetto-spettacolo-il-povero-piero-di-achille-campanile/
LOCATION:Politeatro\, Viale Lucania\, 18\, Milano
ATTACH;FMTTYPE=image/png:https://www.teatripossibili.it/wp-content/uploads/2024/10/il-povero-piero-2.png
END:VEVENT
BEGIN:VEVENT
DTSTART;TZID=Europe/Rome:20250222T080000
DTEND;TZID=Europe/Rome:20250223T190000
DTSTAMP:20260423T132957
CREATED:20250115T091223Z
LAST-MODIFIED:20250115T091829Z
UID:11578-1740211200-1740337200@www.teatripossibili.it
SUMMARY:Seminario di regia con Serena Sinigaglia
DESCRIPTION:Clicca il link in blu (“sito web”) qui sotto per tutti i dettagli! \nFREQUENZA\n– 22 e 23 febbraio 2025 ore 10-19\, docente Serena Sinigaglia
URL:https://www.teatripossibili.it/evento/seminario-di-regia-con-serena-sinigaglia/
END:VEVENT
END:VCALENDAR