BEGIN:VCALENDAR
VERSION:2.0
PRODID:-//Teatri Possibili Milano - ECPv6.15.17.1//NONSGML v1.0//EN
CALSCALE:GREGORIAN
METHOD:PUBLISH
X-WR-CALNAME:Teatri Possibili Milano
X-ORIGINAL-URL:https://www.teatripossibili.it
X-WR-CALDESC:Eventi per Teatri Possibili Milano
REFRESH-INTERVAL;VALUE=DURATION:PT1H
X-Robots-Tag:noindex
X-PUBLISHED-TTL:PT1H
BEGIN:VTIMEZONE
TZID:Europe/Rome
BEGIN:DAYLIGHT
TZOFFSETFROM:+0100
TZOFFSETTO:+0200
TZNAME:CEST
DTSTART:20240331T010000
END:DAYLIGHT
BEGIN:STANDARD
TZOFFSETFROM:+0200
TZOFFSETTO:+0100
TZNAME:CET
DTSTART:20241027T010000
END:STANDARD
BEGIN:DAYLIGHT
TZOFFSETFROM:+0100
TZOFFSETTO:+0200
TZNAME:CEST
DTSTART:20250330T010000
END:DAYLIGHT
BEGIN:STANDARD
TZOFFSETFROM:+0200
TZOFFSETTO:+0100
TZNAME:CET
DTSTART:20251026T010000
END:STANDARD
BEGIN:DAYLIGHT
TZOFFSETFROM:+0100
TZOFFSETTO:+0200
TZNAME:CEST
DTSTART:20260329T010000
END:DAYLIGHT
BEGIN:STANDARD
TZOFFSETFROM:+0200
TZOFFSETTO:+0100
TZNAME:CET
DTSTART:20261025T010000
END:STANDARD
END:VTIMEZONE
BEGIN:VEVENT
DTSTART;TZID=Europe/Rome:20250404T200000
DTEND;TZID=Europe/Rome:20250404T213000
DTSTAMP:20260423T024711
CREATED:20250318T000741Z
LAST-MODIFIED:20250324T093721Z
UID:12479-1743796800-1743802200@www.teatripossibili.it
SUMMARY:Lettura interpretata del nostro Laboratorio di Drammaturgia
DESCRIPTION:Voci e visioni dei nuovi drammaturghi di Teatri Possibili\n\nCos’è una storia\, quando nasce per il teatro?\nQuale bisogno profondo ci spinge a raccontare\, a trasformare emozioni\, ricordi e visioni in parole da affidare a una scena? \nA queste domande hanno provato a rispondere\, con passione\, i partecipanti al corso di drammaturgia condotto da Bianca Montanaro negli spazi di Teatri Possibili. \nVenerdì 4 aprile alle ore 20:00 vi invitiamo alla serata conclusiva del percorso: un momento di condivisione aperto al pubblico\, in cui i testi scritti durante il laboratorio prenderanno vita grazie alla voce e all’interpretazione di tre allievi attori della nostra Accademia. \nGradita la prenotazione a info@teatripossibili.it \nUn’occasione speciale per ascoltare storie nuove\, nate dal confronto\, dalla ricerca e dal desiderio di esplorare ciò che il teatro può ancora raccontare.\nVi aspettiamo
URL:https://www.teatripossibili.it/evento/lettura-iterpretata-dei-monologhi-ideati-nel-corso-del-nostro-laboratorio-di-drammaturgia/
END:VEVENT
BEGIN:VEVENT
DTSTART;TZID=Europe/Rome:20250405T100000
DTEND;TZID=Europe/Rome:20250406T190000
DTSTAMP:20260423T024711
CREATED:20240904T094847Z
LAST-MODIFIED:20250313T090606Z
UID:10042-1743847200-1743966000@www.teatripossibili.it
SUMMARY:Seminario Giorgio Bongiovanni "La commedia dell'arte - avanzato"
DESCRIPTION:Clicca il link in blu (“sito web”) qui sotto per tutti i dettagli! \nFREQUENZA \n– sabato 5 e domenica 6 aprile 2025 ore 10-19\, docente Giorgio Bongiovanni
URL:https://www.teatripossibili.it/evento/seminario-samuel-salamone-lattore-regista/
END:VEVENT
BEGIN:VEVENT
DTSTART;TZID=Europe/Rome:20250406T143000
DTEND;TZID=Europe/Rome:20250406T170000
DTSTAMP:20260423T024711
CREATED:20250318T001533Z
LAST-MODIFIED:20250318T124551Z
UID:12484-1743949800-1743958800@www.teatripossibili.it
SUMMARY:Associazionismo: visita guidata: Gio Ponti e la Torre Branca e parco Sempione
DESCRIPTION:Appuntamento ore 14\,30 lato Viale Alemagna. Un viaggio attraverso l’arte e il design di Gio Ponti\, uno dei più grandi maestri dell’architettura italiana\, seguito da una visita alla Torre Branca\, icona dello skyline milanese. Un’occasione per conoscere il genio creativo di Ponti e ammirare Milano da una prospettiva unica.
URL:https://www.teatripossibili.it/evento/visita-guidata-gio-ponti-e-la-torre-branca/
END:VEVENT
BEGIN:VEVENT
DTSTART;TZID=Europe/Rome:20250411T100000
DTEND;TZID=Europe/Rome:20250413T170000
DTSTAMP:20260423T024711
CREATED:20241216T144325Z
LAST-MODIFIED:20250318T082753Z
UID:11407-1744365600-1744563600@www.teatripossibili.it
SUMMARY:Seminario Greta Zamparini – Laboratorio sulla tecnica Meisner
DESCRIPTION:Clicca il link in blu (“sito web”) qui sotto per tutti i dettagli! \nFREQUENZA\n– 11\, 12 e 13 aprile 2025 ore 10-17 con Greta Zamparini
URL:https://www.teatripossibili.it/evento/seminario-con-greta-zamparini-laboratorio-sulla-tecnica-meisner-2/
END:VEVENT
BEGIN:VEVENT
DTSTART;TZID=Europe/Rome:20250412T160000
DTEND;TZID=Europe/Rome:20250412T170000
DTSTAMP:20260423T024711
CREATED:20250407T092046Z
LAST-MODIFIED:20250407T092046Z
UID:12638-1744473600-1744477200@www.teatripossibili.it
SUMMARY:Associazionismo: Lezione di Teatro con Lapo Sintoni
DESCRIPTION:Appassionati e curiosi di Teatro questa lezione è per voi\, il Teatro è gioco e scoperta\, e insieme al bravissimo Lapo Sintoni vi aspettiamo per divertici insieme. Siete curiosi? Allora ti aspettiamo.
URL:https://www.teatripossibili.it/evento/associazionismo-lezione-di-teatro-con-lapo-sintoni/
END:VEVENT
BEGIN:VEVENT
DTSTART;TZID=Europe/Rome:20250413T203000
DTEND;TZID=Europe/Rome:20250413T223000
DTSTAMP:20260423T024711
CREATED:20241022T124016Z
LAST-MODIFIED:20250410T075046Z
UID:10775-1744576200-1744583400@www.teatripossibili.it
SUMMARY:Spettacolo corso Progetto Spettacolo - Il risveglio di primavera
DESCRIPTION:Il laboratorio-spettacolo dedicato a Il Risveglio di Primavera di Frank Wedekind è pensato per allievi avanzati che vogliono mettersi alla prova sul palcoscenico. Attraverso una serie di esercizi e improvvisazioni teatrali\, gli attori esploreranno i propri ricordi\, vissuti e emozioni\, trasformandoli in materia viva da portare in scena. \nOgnuno di noi ha ricordi inconfessati e inconfessabili della propria adolescenza. È quel periodo della vita\, carico di conflitti interiori e vulnerabilità emotiva\, in cui ci si confronta con crisi esistenziali\, dubbi e sperimentazioni\, dall’orientamento sessuale alle aspirazioni future e ai valori personali. Chi siamo? Qual è il nostro posto nel mondo? Anche da adulti\, queste domande continuano a risuonare dentro di noi. Il Risveglio di Primavera offre una lente attraverso cui osservare e rivivere quelle pulsioni e incertezze. \nL’obiettivo è dunque creare uno spettacolo che rifletta il mondo interiore degli allievi\, filtrato attraverso uno dei testi più provocatori del teatro moderno. Il Risveglio di Primavera\, scritto nel 1891 e a lungo censurato\, affronta con audacia temi come il desiderio\, la repressione e il conflitto tra morale e istinto. Il laboratorio permetterà di riscoprire un testo meraviglioso e senza tempo\, che continua a interrogare e scuotere le coscienze\, grazie alla sua capacità di parlare ancora oggi di educazione\, crescita e delle fragilità dell’adolescenza. \nGli allievi attori avranno la possibilità di lavorare in profondità sui personaggi\, calandosi in un intreccio che esplora le pulsioni sessuali\, i dubbi esistenziali e le lotte interiori tipiche di quel periodo della vita. Lo spettacolo finale sarà una riflessione intensa sul conflitto tra il bisogno di conoscenza e l’imposizione di una morale repressiva che\, anziché proteggere\, può ferire. \nMolto più di un semplice percorso formativo\, questo spettacolo è un viaggio attraverso le emozioni e le esperienze che hanno plasmato la nostra adolescenza e che continuano bene o male a influenzarci. \nConduce Francesco Meola  \nBiglietti acquistabili al link qui sotto in blu
URL:https://www.teatripossibili.it/evento/spettacolo-corso-progetto-spettacolo-il-risveglio-di-primavera/
LOCATION:Politeatro\, Viale Lucania\, 18\, Milano
ATTACH;FMTTYPE=image/jpeg:https://www.teatripossibili.it/wp-content/uploads/2024/10/WhatsApp-Image-2025-03-25-at-09.17.03.jpeg
END:VEVENT
BEGIN:VEVENT
DTSTART;TZID=Europe/Rome:20250424T210000
DTEND;TZID=Europe/Rome:20250424T220000
DTSTAMP:20260423T024711
CREATED:20250407T092332Z
LAST-MODIFIED:20250407T092332Z
UID:12640-1745528400-1745532000@www.teatripossibili.it
SUMMARY:Associazionismo: Club del Libro su zoom: "Il sale della terra" Jeanine Cummins
DESCRIPTION:Il narcotraffico si è insinuato in città e gli omicidi sono all’ordine del giorno. Ad Acapulco vive Lydia\, che si divide tra il lavoro in libreria e la famiglia: il marito Sebastián\, giornalista\, e il figlioletto Luca\, otto anni e un’intelligenza fuori dal comune. Rimanere in Messico equivale a morte certa\, ma per non farsi rintracciare dal boss che ha ordinato il massacro bisogna evitare le strade più battute e i normali mezzi di trasporto.
URL:https://www.teatripossibili.it/evento/associazionismo-club-del-libro-su-zoom-il-sale-della-terra-jeanine-cummins/
END:VEVENT
BEGIN:VEVENT
DTSTART;TZID=Europe/Rome:20250425T110000
DTEND;TZID=Europe/Rome:20250427T220000
DTSTAMP:20260423T024711
CREATED:20240705T091823Z
LAST-MODIFIED:20250716T075025Z
UID:9493-1745578800-1745791200@www.teatripossibili.it
SUMMARY:Seminario con Gabriele Vacis - Stare\, la consapevolezza in scena e nel quotidiano
DESCRIPTION:Clicca il link in blu (“sito web”) qui sotto per tutti i dettagli! \nFREQUENZA\n– 25 aprile ore 18-22\, 26 aprile ore 11-22 e 27 aprile 2025 ore 11-14 con Gabriele Vacis
URL:https://www.teatripossibili.it/evento/seminario-con-gabriele-vacis-stare-la-consapevolezza-in-scena-e-nel-quotidiano/
LOCATION:Teatri Possibili\, via voghera 9\, Milano\, Milano\, 20144\, Italy
END:VEVENT
END:VCALENDAR