BEGIN:VCALENDAR
VERSION:2.0
PRODID:-//Teatri Possibili Milano - ECPv6.15.17.1//NONSGML v1.0//EN
CALSCALE:GREGORIAN
METHOD:PUBLISH
X-ORIGINAL-URL:https://www.teatripossibili.it
X-WR-CALDESC:Eventi per Teatri Possibili Milano
REFRESH-INTERVAL;VALUE=DURATION:PT1H
X-Robots-Tag:noindex
X-PUBLISHED-TTL:PT1H
BEGIN:VTIMEZONE
TZID:Europe/Rome
BEGIN:DAYLIGHT
TZOFFSETFROM:+0100
TZOFFSETTO:+0200
TZNAME:CEST
DTSTART:20240331T010000
END:DAYLIGHT
BEGIN:STANDARD
TZOFFSETFROM:+0200
TZOFFSETTO:+0100
TZNAME:CET
DTSTART:20241027T010000
END:STANDARD
BEGIN:DAYLIGHT
TZOFFSETFROM:+0100
TZOFFSETTO:+0200
TZNAME:CEST
DTSTART:20250330T010000
END:DAYLIGHT
BEGIN:STANDARD
TZOFFSETFROM:+0200
TZOFFSETTO:+0100
TZNAME:CET
DTSTART:20251026T010000
END:STANDARD
BEGIN:DAYLIGHT
TZOFFSETFROM:+0100
TZOFFSETTO:+0200
TZNAME:CEST
DTSTART:20260329T010000
END:DAYLIGHT
BEGIN:STANDARD
TZOFFSETFROM:+0200
TZOFFSETTO:+0100
TZNAME:CET
DTSTART:20261025T010000
END:STANDARD
END:VTIMEZONE
BEGIN:VEVENT
DTSTART;TZID=Europe/Rome:20250921T150000
DTEND;TZID=Europe/Rome:20250921T190000
DTSTAMP:20260421T200813
CREATED:20250704T100924Z
LAST-MODIFIED:20250716T080635Z
UID:13552-1758466800-1758481200@www.teatripossibili.it
SUMMARY:OPEN DAY 2025
DESCRIPTION:Siamo felici di invitarvi al nostro Open Day\, un’occasione speciale per conoscere la scuola\, i corsi e tutti gli insegnanti che vi accompagneranno nel percorso teatrale del nuovo anno! \nDomenica 21 settembre\nDalle 15:00 alle 19:00 circa\nVia Voghera 9\, 20144 Milano \nEcco il programma della giornata: \n\nOre 15:00 – Presentazione dei corsi junior (bambini e ragazzi fino ai 12 anni)\nOre 17:00 – Presentazione dei corsi per adolescenti e adulti\nOre 18:00 – “Speed date teatrale”: un momento informale in cui potrete conoscere personalmente i docenti\, fare domande\, confrontarvi con loro e capire qual è il corso più adatto a voi!\n\nSe stai pensando di intraprendere un percorso teatrale o vuoi semplicemente capire come funziona la nostra scuola\, questa è l’occasione perfetta. \nIngresso libero\, vi aspettiamo numerosi\, ma fateci sapere se verrete con una conferma a info@teatripossibili.it \nA presto
URL:https://www.teatripossibili.it/evento/open-day-2025/
LOCATION:Teatri Possibili\, via voghera 9\, Milano\, Milano\, 20144\, Italy
END:VEVENT
BEGIN:VEVENT
DTSTART;TZID=Europe/Rome:20250926T080000
DTEND;TZID=Europe/Rome:20250926T170000
DTSTAMP:20260421T200813
CREATED:20250710T145635Z
LAST-MODIFIED:20250909T124855Z
UID:13632-1758873600-1758906000@www.teatripossibili.it
SUMMARY:Provini Accademia 2025
DESCRIPTION:L’ammissione all’Accademia avviene tramite selezione. Le prossime selezioni si svolgeranno:\nVenerdì 26 settembre 2025 dalle ore 10:00 \n\nAi candidati verrà richiesto: \n• Un monologo tratto da opera teatrale pubblicata di durata non superiore ai 4 minuti (i candidati dovranno aver letto l’intera opera e conoscere la dinamica del personaggio)\n• La lettura di un brano in prosa\n• La realizzazione di una breve improvvisazione su tema proposto estemporaneo \n\n\nL’ammissione all’Accademia sarà comunicata entro una settimana dal provino.
URL:https://www.teatripossibili.it/evento/provini-accademia-2025/
LOCATION:Teatri Possibili\, via voghera 9\, Milano\, Milano\, 20144\, Italy
END:VEVENT
END:VCALENDAR