BEGIN:VCALENDAR
VERSION:2.0
PRODID:-//Teatri Possibili Milano - ECPv6.15.17.1//NONSGML v1.0//EN
CALSCALE:GREGORIAN
METHOD:PUBLISH
X-WR-CALNAME:Teatri Possibili Milano
X-ORIGINAL-URL:https://www.teatripossibili.it
X-WR-CALDESC:Eventi per Teatri Possibili Milano
REFRESH-INTERVAL;VALUE=DURATION:PT1H
X-Robots-Tag:noindex
X-PUBLISHED-TTL:PT1H
BEGIN:VTIMEZONE
TZID:Europe/Rome
BEGIN:DAYLIGHT
TZOFFSETFROM:+0100
TZOFFSETTO:+0200
TZNAME:CEST
DTSTART:20240331T010000
END:DAYLIGHT
BEGIN:STANDARD
TZOFFSETFROM:+0200
TZOFFSETTO:+0100
TZNAME:CET
DTSTART:20241027T010000
END:STANDARD
BEGIN:DAYLIGHT
TZOFFSETFROM:+0100
TZOFFSETTO:+0200
TZNAME:CEST
DTSTART:20250330T010000
END:DAYLIGHT
BEGIN:STANDARD
TZOFFSETFROM:+0200
TZOFFSETTO:+0100
TZNAME:CET
DTSTART:20251026T010000
END:STANDARD
BEGIN:DAYLIGHT
TZOFFSETFROM:+0100
TZOFFSETTO:+0200
TZNAME:CEST
DTSTART:20260329T010000
END:DAYLIGHT
BEGIN:STANDARD
TZOFFSETFROM:+0200
TZOFFSETTO:+0100
TZNAME:CET
DTSTART:20261025T010000
END:STANDARD
END:VTIMEZONE
BEGIN:VEVENT
DTSTART;TZID=Europe/Rome:20251016T183000
DTEND;TZID=Europe/Rome:20251016T193000
DTSTAMP:20260421T130839
CREATED:20251009T153341Z
LAST-MODIFIED:20251009T154021Z
UID:15309-1760639400-1760643000@www.teatripossibili.it
SUMMARY:Van Gogh [1 di 4 "Sulle spalle dei giganti"] Spettacolo Compagnia Corrado d'Elia
DESCRIPTION:di e con Corrado d’Elia\ntecnico audio Davide Andreozzi\nproduzione Compagnia Corrado d’Elia \n\nVincent van Gogh è forse l’artista più amato e più incompreso di sempre. Un genio puro\, che ha fatto della pittura non solo un mestiere\, ma una necessità vitale. È questa urgenza che lo rende universale\, che tocca una corda profonda e collettiva. I suoi colori\, le sue linee\, i suoi cieli sono ormai parte della memoria collettiva. \n\nLo spettacolo fa parte di una rassegna di quattro appuntamenti\, ognuno dedicato a una figura straordinaria che ha cambiato il nostro modo di vedere il mondo. \n\n\n\n\nCorrado d’Elia – attore e regista che da anni esplora in scena e sulla pagina la voce interiore\, il gesto creativo\, la solitudine e la luce dei grandi spiriti della storia – accompagna il pubblico sulle tracce di quattro figure ineguagliabili\, per ascoltarne l’eco e lasciarsi ispirare dalla loro visione. \nNon semplici conferenze\, ma esperienze vive\, intime e visionarie che ricordano come l’arte\, il pensiero e la bellezza abbiano ancora il potere di trasformare il nostro sguardo sul mondo. I geni\, infatti\, non sono solo individui di straordinario talento\, ma aprono strade verso ciò che il mondo non immagina ancora di poter diventare. \n\n\n\n 
URL:https://www.teatripossibili.it/evento/van-gogh-1-di-4-sulle-spalle-dei-giganti-spettacolo-compagnia-corrado-delia/
LOCATION:Teatro Franco Parenti\, via Pier Lombardo\, 14\, Milano\, 20135\, Italy
ATTACH;FMTTYPE=image/jpeg:https://www.teatripossibili.it/wp-content/uploads/2025/10/Van-gogh-delia.jpg
END:VEVENT
BEGIN:VEVENT
DTSTART;TZID=Europe/Rome:20251017T100000
DTEND;TZID=Europe/Rome:20251019T190000
DTSTAMP:20260421T130839
CREATED:20250731T125553Z
LAST-MODIFIED:20250731T130840Z
UID:13955-1760695200-1760900400@www.teatripossibili.it
SUMMARY:Seminario "le mie parole saranno pugnali" con Luciano Colavero
DESCRIPTION:Clicca il link in blu (“sito web”) qui sotto per tutti i dettagli! \nFREQUENZA \n17\,18 e 19 ottobre con Luciano Colavero
URL:https://www.teatripossibili.it/evento/seminario-luciano-colavero-le-mie-parole-saranno-pugnali/
LOCATION:Teatri Possibili\, via voghera 9\, Milano\, Milano\, 20144\, Italy
END:VEVENT
BEGIN:VEVENT
DTSTART;TZID=Europe/Rome:20251025T210000
DTEND;TZID=Europe/Rome:20251025T230000
DTSTAMP:20260421T130839
CREATED:20251010T113457Z
LAST-MODIFIED:20251010T131415Z
UID:15338-1761426000-1761433200@www.teatripossibili.it
SUMMARY:Bullet catch
DESCRIPTION:Bullet Catch” è uno spettacolo che combina magia\, illusione e dramma psicologico. \nDurante la rappresentazione\, il pubblico viene coinvolto attivamente\, con uno spettatore scelto ogni sera per eseguire il leggendario e pericoloso trucco del “Bullet Catch”\, il più pericoloso numero di magia mai realizzato\, in cui un mago cattura con i denti un proiettile sparato da una pistola. La tensione cresce mentre esploriamo i temi del libero arbitrio\, della responsabilità\, del credere e della connessione umana. \ntesto Rob Drummond\nregia Massimiliano Cividati\ncon Alex Cendron\ntecnica e scene Alex Cendron e Massimiliano Cividati\ncostumi Giuliana Colzi\nmusiche Giacomo Benvenuto\narmi in scena fornite da Bruni Guns\nun meraviglioso ringraziamento a Mariano Tomatis
URL:https://www.teatripossibili.it/evento/bullet-catch/
LOCATION:Politeatro\, Viale Lucania\, 18\, Milano
ATTACH;FMTTYPE=image/png:https://www.teatripossibili.it/wp-content/uploads/2025/10/Progetto-senza-titolo-2025-10-10T151400.269.png
END:VEVENT
END:VCALENDAR