BEGIN:VCALENDAR
VERSION:2.0
PRODID:-//Teatri Possibili Milano - ECPv6.15.17.1//NONSGML v1.0//EN
CALSCALE:GREGORIAN
METHOD:PUBLISH
X-ORIGINAL-URL:https://www.teatripossibili.it
X-WR-CALDESC:Eventi per Teatri Possibili Milano
REFRESH-INTERVAL;VALUE=DURATION:PT1H
X-Robots-Tag:noindex
X-PUBLISHED-TTL:PT1H
BEGIN:VTIMEZONE
TZID:Europe/Rome
BEGIN:DAYLIGHT
TZOFFSETFROM:+0100
TZOFFSETTO:+0200
TZNAME:CEST
DTSTART:20240331T010000
END:DAYLIGHT
BEGIN:STANDARD
TZOFFSETFROM:+0200
TZOFFSETTO:+0100
TZNAME:CET
DTSTART:20241027T010000
END:STANDARD
BEGIN:DAYLIGHT
TZOFFSETFROM:+0100
TZOFFSETTO:+0200
TZNAME:CEST
DTSTART:20250330T010000
END:DAYLIGHT
BEGIN:STANDARD
TZOFFSETFROM:+0200
TZOFFSETTO:+0100
TZNAME:CET
DTSTART:20251026T010000
END:STANDARD
BEGIN:DAYLIGHT
TZOFFSETFROM:+0100
TZOFFSETTO:+0200
TZNAME:CEST
DTSTART:20260329T010000
END:DAYLIGHT
BEGIN:STANDARD
TZOFFSETFROM:+0200
TZOFFSETTO:+0100
TZNAME:CET
DTSTART:20261025T010000
END:STANDARD
END:VTIMEZONE
BEGIN:VEVENT
DTSTART;TZID=Europe/Rome:20251210T180000
DTEND;TZID=Europe/Rome:20251210T190000
DTSTAMP:20260419T015543
CREATED:20251117T095817Z
LAST-MODIFIED:20251128T122935Z
UID:15929-1765389600-1765393200@www.teatripossibili.it
SUMMARY:Convegno “ll nuovo ruolo degli adulti nell’epoca della complessità”. Relatrice Alessia Lanzi. Cooperativa Il Minotauro – Politeatro\, Milano
DESCRIPTION:Il convegno (precedentemente schedulato per il 28 novembre\, si svolgerà il 10 dicembre) \nRelatrice: Alessia Lanzi\, Presidente del Minotauro\nNell’ambito del progetto LeStorieChe(non)Raccontiamo di Teatri Possibili \nOggi essere adulti significa fare i conti con una complessità crescente: cambiamenti culturali\, fragilità giovanili\, nuove sfide educative e una visione del futuro spesso segnata da incertezze. Per affrontare tutto questo servono strumenti nuovi\, ma soprattutto spazi di dialogo autentico. \nIl convegno “Il nuovo ruolo degli adulti nell’epoca della complessità” nasce proprio con questa intenzione: creare un luogo vivo\, aperto\, partecipato.\nAl centro dell’incontro ci sarà Alessia Lanzi\, psicoterapeuta e psicologa\, Presidente del Minotauro\, che non si limiterà a introdurre il tema\, ma si confronterà direttamente con il pubblico\, accogliendo domande\, riflessioni e vissuti personali per costruire insieme un pensiero condiviso. \nNon sarà dunque una semplice conferenza\, ma un momento di scambio reale\, dove le voci del pubblico diventano parte integrante dell’incontro.\nUno spazio in cui adulti\, educatori\, insegnanti e genitori potranno confrontarsi sui nuovi bisogni evolutivi dei giovani e sulle alleanze educative necessarie per sostenerli. \nAll’interno del progetto LeStorieChe(non)Raccontiamo di Teatri Possibili\, questo appuntamento vuole essere una vera occasione per portare alla luce quelle storie\, quelle domande e quelle complessità che troppo spesso rimangono inascoltate. \nUn momento per fermarsi\, parlare\, capire. Insieme.\nPer partecipare all’evento scrivi a biglietterialestorie@gmail.com o chiamaci al numero 028323182 \n\n\n\n\n\n\n\n𝗟𝗲𝗦𝘁𝗼𝗿𝗶𝗲𝗖𝗵𝗲(𝗻𝗼𝗻)𝗥𝗮𝗰𝗰𝗼𝗻𝘁𝗶𝗮𝗺𝗼\, è un progetto promosso da Teatri Possibili con Compagnia Corrado d’Elia\, Cooperativa Minotauro\, Villaggio Barona e Fondazione Cassoni\, con il sostegno di Fondazione Cariplo e il patrocinio dei Municipi 4 e 6 di Milano.
URL:https://www.teatripossibili.it/evento/convegno-ll-nuovo-ruolo-degli-adulti-nellepoca-della-complessita-relatrice-alessia-lanzi-cooperativa-il-minotauro-politeatro-milano/
LOCATION:Politeatro\, Viale Lucania\, 18\, Milano
END:VEVENT
BEGIN:VEVENT
DTSTART;TZID=Europe/Rome:20251213T100000
DTEND;TZID=Europe/Rome:20251214T190000
DTSTAMP:20260419T015543
CREATED:20250731T130131Z
LAST-MODIFIED:20250917T152051Z
UID:13961-1765620000-1765738800@www.teatripossibili.it
SUMMARY:Seminario "l'immaginario e la creazione artistica" con Mamadou Dioume
DESCRIPTION:Clicca il link in blu (“sito web”) qui sotto per tutti i dettagli! \nFREQUENZA \n13 e 14 dicembre 2025 con Mamadou Dioume \nSOLD OUT
URL:https://www.teatripossibili.it/evento/seminario-limmaginario-e-la-creazione-artistica-con-mamadou-dioume/
LOCATION:Teatri Possibili\, via voghera 9\, Milano\, Milano\, 20144\, Italy
END:VEVENT
END:VCALENDAR